BEGIN:VCALENDAR
VERSION:2.0
PRODID:-//Lend A Heart Lend A Hand - ECPv5.1.5//NONSGML v1.0//EN
CALSCALE:GREGORIAN
METHOD:PUBLISH
X-WR-CALNAME:Lend A Heart Lend A Hand
X-ORIGINAL-URL:https://lendaheart.org
X-WR-CALDESC:Events for Lend A Heart Lend A Hand
BEGIN:VTIMEZONE
TZID:UTC
BEGIN:STANDARD
TZOFFSETFROM:+0000
TZOFFSETTO:+0000
TZNAME:UTC
DTSTART:20240101T000000
END:STANDARD
END:VTIMEZONE
BEGIN:VEVENT
DTSTART;TZID=UTC:20240502T000000
DTEND;TZID=UTC:20240502T235900
DTSTAMP:20260425T182242
CREATED:20240426T002422Z
LAST-MODIFIED:20240426T010915Z
UID:831-1714608000-1714694340@lendaheart.org
SUMMARY:Fundraiser - Big Day of Giving - May 2!
DESCRIPTION:When you give from now through Big Day of Giving on Thursday\, May 2\, you support the participating 830 local nonprofits that make the Sacramento region healthy\, vibrant\, and strong. \nLend A Heart has received a matching funds sponsorship from Sacramento County Supervisor Pat Hume (District 5) to support animal-assisted therapy services to community groups within the county.  Donate today! \n
URL:https://lendaheart.org/event/fundraiser-big-day-of-giving-may-2/
END:VEVENT
END:VCALENDAR